BEGIN:VCALENDAR
VERSION:2.0
PRODID:icalendar-ruby
CALSCALE:GREGORIAN
METHOD:PUBLISH
BEGIN:VEVENT
DTSTAMP:20260423T092626Z
UID:25-713947@thecvcc.com
DTSTART:20260927T164500Z
DTEND:20260927T171500Z
CLASS:PUBLIC
CREATED:20260422T192231
DESCRIPTION:
LAST-MODIFIED:20260422T192231
LOCATION:Preteen room 12 due to construction in room 4
SUMMARY:Sunday Morning Prayer Group
URL;VALUE=URI:https://www.thecvcc.com/events/sunday-morning-prayer-group/20
 26-09-27
ATTACH;FILENAME=prayer.jpeg;FMTTYPE=image/jpeg:https://dq5pwpg1q8ru0.cloudf
 ront.net/2024/01/18/20/33/11/9ed5cf42-7bbb-4509-92bf-2bc00359b58d/prayer.j
 peg
END:VEVENT
END:VCALENDAR
